BEGIN:VCALENDAR
VERSION:2.0
PRODID:-//Plone.org//NONSGML plone.app.event//EN
X-WR-TIMEZONE:Europe/Vienna
BEGIN:VEVENT
SUMMARY:Lager Team F
DTSTART;VALUE=DATE:20240114
DTEND;VALUE=DATE:20240120
DTSTAMP;VALUE=DATE-TIME:20260421T180128Z
UID:e0eb7bb6e664472d95b3aaf8ce1152b4@127.0.0.1:10350
CREATED;VALUE=DATE-TIME:20230327T132853Z
DESCRIPTION:Schülerinnen\, Schüler und Lehrpersonen des Teams F sind ein
 e Woche im Skilager.
LAST-MODIFIED;VALUE=DATE-TIME:20231025T095359Z
URL:https://www.sek-vogesen.ch/termine/sportlager-team-f
END:VEVENT
END:VCALENDAR
