BEGIN:VCALENDAR
VERSION:2.0
PRODID:-//Plone.org//NONSGML plone.app.event//EN
X-WR-TIMEZONE:Europe/Vienna
BEGIN:VEVENT
SUMMARY:Schulbeginn
DTSTART;VALUE=DATE:20250811
DTEND;VALUE=DATE:20250812
DTSTAMP;VALUE=DATE-TIME:20260421T110330Z
UID:3043bb7d1d6a4622a9548b5ea6c0fb00@127.0.0.1:10350
CREATED;VALUE=DATE-TIME:20240703T074620Z
DESCRIPTION:Schulbeginn für die 1. Sek 8.30h\, Arena Pausenplatz\;\nSchul
 beginn für die 2./3. Sek um 8 Uhr im Lernatelier des Teams
LAST-MODIFIED;VALUE=DATE-TIME:20250702T132412Z
URL:https://www.sek-vogesen.ch/termine/schulbeginn
END:VEVENT
END:VCALENDAR
