BEGIN:VCALENDAR
VERSION:2.0
PRODID:-//Plone.org//NONSGML plone.app.event//EN
X-WR-TIMEZONE:Europe/Vienna
BEGIN:VEVENT
SUMMARY:Kirchlicher Projektnachmittag
DTSTART;TZID=Europe/Zurich;VALUE=DATE-TIME:20251107T130000
DTEND;TZID=Europe/Zurich;VALUE=DATE-TIME:20251107T141700
DTSTAMP;VALUE=DATE-TIME:20260421T130409Z
UID:39fcab637c464e81a91405848c6ed098@localhost:10300
CREATED;VALUE=DATE-TIME:20150902T120122Z
DESCRIPTION:Für die Schüler/innen der 1. Sek\, die den kirchlichen Unter
 richt der evang.-ref. oder röm.-kath. Kirche Basel-Stadt besuchen. Weiter
 e Infos folgen direkt von den Kirchen.
LAST-MODIFIED;VALUE=DATE-TIME:20250703T075250Z
URL:https://www.sek-vogesen.ch/termine/copy_of_kirchlicher-projektnachmitt
 ag
END:VEVENT
BEGIN:VTIMEZONE
TZID:Europe/Zurich
X-LIC-LOCATION:Europe/Zurich
BEGIN:STANDARD
DTSTART;VALUE=DATE-TIME:20251026T020000
TZNAME:CET
TZOFFSETFROM:+0200
TZOFFSETTO:+0100
END:STANDARD
END:VTIMEZONE
END:VCALENDAR
